BEGIN:VCALENDAR
VERSION:2.0
CALSCALE:GREGORIAN
PRODID:-//Diputació de Barcelona//DibaCMS//EN
BEGIN:VEVENT
UID:4241
DTSTAMP:20260421T225821
DTSTART:20200125T210000
DTEND:20200125T230000
SUMMARY:Concert d' Alderaan.
LOCATION:C/Josep Fornell s/n  08231 Ullastrell
METHOD:PUBLISH
X-WR-CALNAME:ullastrell@ullastrell.cat
X-WR-TIMEZONE:Europe/Madrid
DESCRIPTION:Amb Josep Rodó, guitarra i Olga Pareja, veu.

URI:https://www.ullastrell.cat/actualitat/agenda/concert-d-alderaan.html
CLASS:PUBLIC
END:VEVENT
END:VCALENDAR
