BEGIN:VCALENDAR
VERSION:2.0
CALSCALE:GREGORIAN
PRODID:-//Diputació de Barcelona//DibaCMS//EN
BEGIN:VEVENT
UID:4262
DTSTAMP:20260421T230110
DTSTART:20200213T170000
DTEND:20200213T180000
SUMMARY:Conte va, conte ve
LOCATION:C/ Josep Fornell, s/n 08231 Ullastrell
METHOD:PUBLISH
X-WR-CALNAME:ullastrell@ullastrell.cat
X-WR-TIMEZONE:Europe/Madrid
DESCRIPTION:“Explica’m una selva”, Moi Aznar (17.00h) Biblioteca Josep Massagué


 

URI:https://www.ullastrell.cat/actualitat/agenda/4262-conte-va-conte-ve.html
CLASS:PUBLIC
END:VEVENT
END:VCALENDAR
