BEGIN:VCALENDAR
VERSION:2.0
CALSCALE:GREGORIAN
PRODID:-//Diputació de Barcelona//DibaCMS//EN
BEGIN:VEVENT
UID:4301
DTSTAMP:20260421T182334
DTSTART:20200307T180000
DTEND:20200307T200000
SUMMARY:Dones de Camerun i Ghana: sororitat en la distància
LOCATION:C/ Serra 37 08231 Ullastrell
METHOD:PUBLISH
X-WR-CALNAME:ullastrell@ullastrell.cat
X-WR-TIMEZONE:Europe/Madrid
DESCRIPTION:Exposició “Dones de Camerun i Ghana: sororitat en la distància”.

URI:https://www.ullastrell.cat/actualitat/agenda/4301-dones-de-camerun-i-ghana-sororitat-en-la-distancia.html
CLASS:PUBLIC
END:VEVENT
END:VCALENDAR
