BEGIN:VCALENDAR
VERSION:2.0
CALSCALE:GREGORIAN
PRODID:-//Diputació de Barcelona//DibaCMS//EN
BEGIN:VEVENT
UID:4305
DTSTAMP:20260421T182430
DTSTART:20200306T220000
DTEND:20200307T000000
SUMMARY:Teatre "Com si fos aquesta nit"
LOCATION:C/ Josep Fornell, s/n 08231 Ullastrell
METHOD:PUBLISH
X-WR-CALNAME:ullastrell@ullastrell.cat
X-WR-TIMEZONE:Europe/Madrid
DESCRIPTION:Dins els actes del dia de la Dona.

URI:https://www.ullastrell.cat/actualitat/agenda/teatre-com-si-fos-aquesta-nit.html
CLASS:PUBLIC
END:VEVENT
END:VCALENDAR
