BEGIN:VCALENDAR
VERSION:2.0
CALSCALE:GREGORIAN
PRODID:-//Diputació de Barcelona//DibaCMS//EN
BEGIN:VEVENT
UID:4342
DTSTAMP:20260421T175851
DTSTART:20200425T000000
DTEND:20200508T000000
SUMMARY:Propostes i activitats Ullastrell Cultura
LOCATION:
METHOD:PUBLISH
X-WR-CALNAME:ullastrell@ullastrell.cat
X-WR-TIMEZONE:Europe/Madrid
DESCRIPTION:📢Donem la benvinguda al canal de Facebook Ullastrell Cultura! 🆕🥳

Aquesta pàgina serà una finestra al món 🖼de propostes culturals 🆒 que dia rere dia anirem proposant-vos perquè aquest confinament 🛋 sigui el més amè possible!

Us animem a totes a que la seguiu per no perde-us cap activitat! 🔗 fb.me/UllastrellCultura  Queda't a casa, i fes Cultura! 💙😜

URI:https://www.ullastrell.cat/actualitat/agenda/propostes-i-activitats-ullastrell-cultura.html
CLASS:PUBLIC
END:VEVENT
END:VCALENDAR
