BEGIN:VCALENDAR
VERSION:2.0
CALSCALE:GREGORIAN
PRODID:-//Diputació de Barcelona//DibaCMS//EN
BEGIN:VEVENT
UID:4401
DTSTAMP:20260421T213337
DTSTART:20200609T000000
DTEND:20200614T000000
SUMMARY:Challenge percutiu
LOCATION:
METHOD:PUBLISH
X-WR-CALNAME:ullastrell@ullastrell.cat
X-WR-TIMEZONE:Europe/Madrid
DESCRIPTION:
URI:https://www.ullastrell.cat/actualitat/agenda/challenge-percutiu.html
CLASS:PUBLIC
END:VEVENT
END:VCALENDAR
