BEGIN:VCALENDAR
VERSION:2.0
CALSCALE:GREGORIAN
PRODID:-//Diputació de Barcelona//DibaCMS//EN
BEGIN:VEVENT
UID:4402
DTSTAMP:20260421T225852
DTSTART:20200610T000000
DTEND:20200614T230000
SUMMARY:Ambient'Quiz
LOCATION:
METHOD:PUBLISH
X-WR-CALNAME:ullastrell@ullastrell.cat
X-WR-TIMEZONE:Europe/Madrid
DESCRIPTION:
URI:https://www.ullastrell.cat/actualitat/agenda/ambientquiz.html
CLASS:PUBLIC
END:VEVENT
END:VCALENDAR
