BEGIN:VCALENDAR
VERSION:2.0
CALSCALE:GREGORIAN
PRODID:-//Diputació de Barcelona//DibaCMS//EN
BEGIN:VEVENT
UID:4404
DTSTAMP:20260421T201910
DTSTART:20200605T000000
DTEND:20200610T000000
SUMMARY:SETMANA DEL MEDI AMBIENT
LOCATION:
METHOD:PUBLISH
X-WR-CALNAME:ullastrell@ullastrell.cat
X-WR-TIMEZONE:Europe/Madrid
DESCRIPTION:
URI:https://www.ullastrell.cat/actualitat/agenda/4404-setmana-del-medi-ambient.html
CLASS:PUBLIC
END:VEVENT
END:VCALENDAR
