BEGIN:VCALENDAR
VERSION:2.0
CALSCALE:GREGORIAN
PRODID:-//Diputació de Barcelona//DibaCMS//EN
BEGIN:VEVENT
UID:4406
DTSTAMP:20260422T004717
DTSTART:20200605T190000
DTEND:20200605T210000
SUMMARY:Xerrada en streaming "porta a porta"
LOCATION:
METHOD:PUBLISH
X-WR-CALNAME:ullastrell@ullastrell.cat
X-WR-TIMEZONE:Europe/Madrid
DESCRIPTION: Descobreix el canvi de model de recollida de residus que aviat veurem a Ullastrell.

Envia dubtes que tinguis! Els resoldrem junys

URI:https://www.ullastrell.cat/actualitat/agenda/4406-xerrada-en-streaming-porta-a-porta.html
CLASS:PUBLIC
END:VEVENT
END:VCALENDAR
