BEGIN:VCALENDAR
VERSION:2.0
CALSCALE:GREGORIAN
PRODID:-//Diputació de Barcelona//DibaCMS//EN
BEGIN:VEVENT
UID:4414
DTSTAMP:20260422T005047
DTSTART:20200717T213000
DTEND:20200717T230000
SUMMARY:Curtmetratges a la fresca
LOCATION:
METHOD:PUBLISH
X-WR-CALNAME:ullastrell@ullastrell.cat
X-WR-TIMEZONE:Europe/Madrid
DESCRIPTION:ESTIU JOVE 

Desconfina l'estiu.

URI:https://www.ullastrell.cat/actualitat/agenda/4414-curtmetratges-a-la-fresca.html
CLASS:PUBLIC
END:VEVENT
END:VCALENDAR
