BEGIN:VCALENDAR
VERSION:2.0
CALSCALE:GREGORIAN
PRODID:-//Diputació de Barcelona//DibaCMS//EN
BEGIN:VEVENT
UID:4416
DTSTAMP:20260421T181124
DTSTART:20200731T180000
DTEND:20200731T210000
SUMMARY:Realitat virtual
LOCATION:Plaça de les escoles, 1 08231 Ullastrell
METHOD:PUBLISH
X-WR-CALNAME:ullastrell@ullastrell.cat
X-WR-TIMEZONE:Europe/Madrid
DESCRIPTION:ESTIU JOVE 

Desconfina l'estiu.

URI:https://www.ullastrell.cat/actualitat/agenda/realitat-virtual.html
CLASS:PUBLIC
END:VEVENT
END:VCALENDAR
