BEGIN:VCALENDAR
VERSION:2.0
CALSCALE:GREGORIAN
PRODID:-//Diputació de Barcelona//DibaCMS//EN
BEGIN:VEVENT
UID:4417
DTSTAMP:20260421T195328
DTSTART:20200807T180000
DTEND:20200807T200000
SUMMARY:Jocs Esportius
LOCATION:
METHOD:PUBLISH
X-WR-CALNAME:ullastrell@ullastrell.cat
X-WR-TIMEZONE:Europe/Madrid
DESCRIPTION:ESTIU JOVE 

Desconfina l'estiu.

URI:https://www.ullastrell.cat/actualitat/agenda/jocs-esportius.html
CLASS:PUBLIC
END:VEVENT
END:VCALENDAR
