BEGIN:VCALENDAR
VERSION:2.0
CALSCALE:GREGORIAN
PRODID:-//Diputació de Barcelona//DibaCMS//EN
BEGIN:VEVENT
UID:4425
DTSTAMP:20260421T201037
DTSTART:20200624T190000
DTEND:20200624T200000
SUMMARY:La volta al món en uns quants contes
LOCATION:
METHOD:PUBLISH
X-WR-CALNAME:ullastrell@ullastrell.cat
X-WR-TIMEZONE:Europe/Madrid
DESCRIPTION:cia. Jomeloguisjomelo.com

URI:https://www.ullastrell.cat/actualitat/agenda/la-volta-al-mon-en-uns-quants-contes.html
CLASS:PUBLIC
END:VEVENT
END:VCALENDAR
