BEGIN:VCALENDAR
VERSION:2.0
CALSCALE:GREGORIAN
PRODID:-//Diputació de Barcelona//DibaCMS//EN
BEGIN:VEVENT
UID:4433
DTSTAMP:20260421T195408
DTSTART:20200702T213000
DTEND:20200702T235500
SUMMARY:Sweet Nipples Trio
LOCATION:Terrasseta del Casal. 
METHOD:PUBLISH
X-WR-CALNAME:ullastrell@ullastrell.cat
X-WR-TIMEZONE:Europe/Madrid
DESCRIPTION:Cicle musical En directe a les estrelles.

URI:https://www.ullastrell.cat/actualitat/agenda/sweet-nipples-trio.html
CLASS:PUBLIC
END:VEVENT
END:VCALENDAR
