BEGIN:VCALENDAR
VERSION:2.0
CALSCALE:GREGORIAN
PRODID:-//Diputació de Barcelona//DibaCMS//EN
BEGIN:VEVENT
UID:4437
DTSTAMP:20260421T150602
DTSTART:20200730T213000
DTEND:20200730T235500
SUMMARY:David Pujade Grup
LOCATION:Terrasseta del Casal. 
METHOD:PUBLISH
X-WR-CALNAME:ullastrell@ullastrell.cat
X-WR-TIMEZONE:Europe/Madrid
DESCRIPTION:Cicle musical En directe a les estrelles.

URI:https://www.ullastrell.cat/actualitat/agenda/david-pujade-grup.html
CLASS:PUBLIC
END:VEVENT
END:VCALENDAR
