BEGIN:VCALENDAR
VERSION:2.0
CALSCALE:GREGORIAN
PRODID:-//Diputació de Barcelona//DibaCMS//EN
BEGIN:VEVENT
UID:4443
DTSTAMP:20260421T180312
DTSTART:20200801T220000
DTEND:20200801T233000
SUMMARY:Cinema a la fresca: PARÁSITOS
LOCATION:
METHOD:PUBLISH
X-WR-CALNAME:ullastrell@ullastrell.cat
X-WR-TIMEZONE:Europe/Madrid
DESCRIPTION:
URI:https://www.ullastrell.cat/actualitat/agenda/cinema-a-la-fresca-parasitos.html
CLASS:PUBLIC
END:VEVENT
END:VCALENDAR
