BEGIN:VCALENDAR
VERSION:2.0
CALSCALE:GREGORIAN
PRODID:-//Diputació de Barcelona//DibaCMS//EN
BEGIN:VEVENT
UID:4448
DTSTAMP:20260421T180620
DTSTART:20200725T180000
DTEND:20200725T220000
SUMMARY:Fira benèfica: Associació som alaire
LOCATION:
METHOD:PUBLISH
X-WR-CALNAME:ullastrell@ullastrell.cat
X-WR-TIMEZONE:Europe/Madrid
DESCRIPTION:vine a passar una tarda de jocs en família

URI:https://www.ullastrell.cat/actualitat/agenda/fira-benefica-associacio-som-alaire.html
CLASS:PUBLIC
END:VEVENT
END:VCALENDAR
