BEGIN:VCALENDAR
VERSION:2.0
CALSCALE:GREGORIAN
PRODID:-//Diputació de Barcelona//DibaCMS//EN
BEGIN:VEVENT
UID:4468
DTSTAMP:20260421T150730
DTSTART:20200812T213000
DTEND:20200812T233000
SUMMARY:ACTE PÚBLIC
LOCATION:
METHOD:PUBLISH
X-WR-CALNAME:ullastrell@ullastrell.cat
X-WR-TIMEZONE:Europe/Madrid
DESCRIPTION:
URI:https://www.ullastrell.cat/actualitat/agenda/acte-public.html
CLASS:PUBLIC
END:VEVENT
END:VCALENDAR
