BEGIN:VCALENDAR
VERSION:2.0
CALSCALE:GREGORIAN
PRODID:-//Diputació de Barcelona//DibaCMS//EN
BEGIN:VEVENT
UID:4484
DTSTAMP:20260421T150654
DTSTART:20200917T173000
DTEND:20200917T190000
SUMMARY:ESPECTACLE TITELLES “DALTABAIX” – CIA. MATITO 
LOCATION:
METHOD:PUBLISH
X-WR-CALNAME:ullastrell@ullastrell.cat
X-WR-TIMEZONE:Europe/Madrid
DESCRIPTION:DIJOUS 17 SETEMBRE

A les 17:30h

Davant de l’Ajuntament

URI:https://www.ullastrell.cat/actualitat/agenda/espectacle-titelles-daltabaix--cia-matito-.html
CLASS:PUBLIC
END:VEVENT
END:VCALENDAR
