BEGIN:VCALENDAR
VERSION:2.0
CALSCALE:GREGORIAN
PRODID:-//Diputació de Barcelona//DibaCMS//EN
BEGIN:VEVENT
UID:4485
DTSTAMP:20260421T190133
DTSTART:20200918T230000
DTEND:20200918T235900
SUMMARY:CONCERT: QUERALT LAHOZ
LOCATION:
METHOD:PUBLISH
X-WR-CALNAME:ullastrell@ullastrell.cat
X-WR-TIMEZONE:Europe/Madrid
DESCRIPTION:A les 23:00h
Pista poliesportiva
CONCERT: QUERALT LAHOZ 🎤

URI:https://www.ullastrell.cat/actualitat/agenda/concert-queralt-lahoz.html
CLASS:PUBLIC
END:VEVENT
END:VCALENDAR
