BEGIN:VCALENDAR
VERSION:2.0
CALSCALE:GREGORIAN
PRODID:-//Diputació de Barcelona//DibaCMS//EN
BEGIN:VEVENT
UID:4494
DTSTAMP:20260421T164228
DTSTART:20201009T193000
DTEND:20201009T210000
SUMMARY:Cinema:- TOY STORY
LOCATION:C/ Josep Fornell, s/n 08231 Ullastrell
METHOD:PUBLISH
X-WR-CALNAME:ullastrell@ullastrell.cat
X-WR-TIMEZONE:Europe/Madrid
DESCRIPTION:Reprenem el cicle de cinema "Tocats pels Oscars" amb aquesta pel·lícula infantil animada de Pixar que, després de 25 anys, segueis captivant a petits i grans.

URI:https://www.ullastrell.cat/actualitat/agenda/cinema-toy-story.html
CLASS:PUBLIC
END:VEVENT
END:VCALENDAR
