BEGIN:VCALENDAR
VERSION:2.0
CALSCALE:GREGORIAN
PRODID:-//Diputació de Barcelona//DibaCMS//EN
BEGIN:VEVENT
UID:4495
DTSTAMP:20260421T140614
DTSTART:20201018T183000
DTEND:20201018T200000
SUMMARY:BRUNA, ENTRE CAMETES!
LOCATION:C/ Serra, 17 08231 Ullastrell
METHOD:PUBLISH
X-WR-CALNAME:ullastrell@ullastrell.cat
X-WR-TIMEZONE:Europe/Madrid
DESCRIPTION:Vine a descobrir tots els secrets de BRUNA, coneix les sorpreses que tenen preparades per la propera temporada i gaudeix, en directe, de la música del seu espectacle.

URI:https://www.ullastrell.cat/actualitat/agenda/bruna-entre-cametes.html
CLASS:PUBLIC
END:VEVENT
END:VCALENDAR
