BEGIN:VCALENDAR
VERSION:2.0
CALSCALE:GREGORIAN
PRODID:-//Diputació de Barcelona//DibaCMS//EN
BEGIN:VEVENT
UID:4501
DTSTAMP:20260421T134424
DTSTART:20201022T173000
DTEND:20201022T183000
SUMMARY:Conte va, conte ve. - Gogaritxi i els seus Vindicontes-
LOCATION:Davant de l'Ajuntament 
METHOD:PUBLISH
X-WR-CALNAME:ullastrell@ullastrell.cat
X-WR-TIMEZONE:Europe/Madrid
DESCRIPTION:
URI:https://www.ullastrell.cat/actualitat/agenda/conte-va-conte-ve-gogaritxi-i-els-seus-vindicontes-.html
CLASS:PUBLIC
END:VEVENT
END:VCALENDAR
