BEGIN:VCALENDAR
VERSION:2.0
CALSCALE:GREGORIAN
PRODID:-//Diputació de Barcelona//DibaCMS//EN
BEGIN:VEVENT
UID:4503
DTSTAMP:20260421T180650
DTSTART:20201028T170000
DTEND:20201028T180000
SUMMARY:Bibliobús La Mola - "Hora del conte per nadons"
LOCATION:C/ Josep Fornell, s/n 08231 Ullastrell
METHOD:PUBLISH
X-WR-CALNAME:ullastrell@ullastrell.cat
X-WR-TIMEZONE:Europe/Madrid
DESCRIPTION:Amb Albert Estengre

URI:https://www.ullastrell.cat/actualitat/agenda/bibliobus-la-mola-hora-del-conte-per-nadons.html
CLASS:PUBLIC
END:VEVENT
END:VCALENDAR
