BEGIN:VCALENDAR
VERSION:2.0
CALSCALE:GREGORIAN
PRODID:-//Diputació de Barcelona//DibaCMS//EN
BEGIN:VEVENT
UID:4527
DTSTAMP:20260421T150802
DTSTART:20201031T190000
DTEND:20201031T200000
SUMMARY:NIT DE TERROR: Curtmetratges terrorífics i molt més! ONLINE
LOCATION:
METHOD:PUBLISH
X-WR-CALNAME:ullastrell@ullastrell.cat
X-WR-TIMEZONE:Europe/Madrid
DESCRIPTION: Gaudeix de 45 minuts terrorífics des del sofà de casa!  Manta i a tremolar! 

URI:https://www.ullastrell.cat/actualitat/agenda/nit-de-terror-curtmetratges-terrorifics-i-molt-mes-online.html
CLASS:PUBLIC
END:VEVENT
END:VCALENDAR
