BEGIN:VCALENDAR
VERSION:2.0
CALSCALE:GREGORIAN
PRODID:-//Diputació de Barcelona//DibaCMS//EN
BEGIN:VEVENT
UID:4529
DTSTAMP:20260421T164306
DTSTART:20201030T200000
DTEND:20201030T210000
SUMMARY:NIT DE TERROR: Quinto de terror
LOCATION:
METHOD:PUBLISH
X-WR-CALNAME:ullastrell@ullastrell.cat
X-WR-TIMEZONE:Europe/Madrid
DESCRIPTION:Juga a aquest tradicional joc online i posa a prova la teva cultura musical cinematografica amb la resta de participants connectats!

URI:https://www.ullastrell.cat/actualitat/agenda/nit-de-terror-quinto-de-terror.html
CLASS:PUBLIC
END:VEVENT
END:VCALENDAR
