BEGIN:VCALENDAR
VERSION:2.0
CALSCALE:GREGORIAN
PRODID:-//Diputació de Barcelona//DibaCMS//EN
BEGIN:VEVENT
UID:4536
DTSTAMP:20260421T134511
DTSTART:20201116T200000
DTEND:20201116T210000
SUMMARY:Ple extraordinari 16/11/2020
LOCATION:
METHOD:PUBLISH
X-WR-CALNAME:ullastrell@ullastrell.cat
X-WR-TIMEZONE:Europe/Madrid
DESCRIPTION:Tipus de convocatòria: Extraordinària
Data i hora: 16 / de novembre / 2020 a les 20:00
Lloc: Sala de Plens virtual

URI:https://www.ullastrell.cat/actualitat/agenda/ple-extraordinari-16112020.html
CLASS:PUBLIC
END:VEVENT
END:VCALENDAR
