BEGIN:VCALENDAR
VERSION:2.0
CALSCALE:GREGORIAN
PRODID:-//Diputació de Barcelona//DibaCMS//EN
BEGIN:VEVENT
UID:4540
DTSTAMP:20260421T133640
DTSTART:20201123T160000
DTEND:20201123T190000
SUMMARY:Reparatruck
LOCATION:Davant de l'Ajuntament 
METHOD:PUBLISH
X-WR-CALNAME:ullastrell@ullastrell.cat
X-WR-TIMEZONE:Europe/Madrid
DESCRIPTION:Vehicle tècnic que ens ajudarà a reparar electrodomèstics, bicicletes o material informàtic.

Porta el teu objecte i el repararem!

URI:https://www.ullastrell.cat/actualitat/agenda/reparatruck.html
CLASS:PUBLIC
END:VEVENT
END:VCALENDAR
