BEGIN:VCALENDAR
VERSION:2.0
CALSCALE:GREGORIAN
PRODID:-//Diputació de Barcelona//DibaCMS//EN
BEGIN:VEVENT
UID:4545
DTSTAMP:20260421T173601
DTSTART:20201126T090000
DTEND:20201126T120000
SUMMARY:Recull el teu sac reutilitzable per la poda
LOCATION:
METHOD:PUBLISH
X-WR-CALNAME:ullastrell@ullastrell.cat
X-WR-TIMEZONE:Europe/Madrid
DESCRIPTION:En horari d'Oficina d'Atenció al Ciutadà

URI:https://www.ullastrell.cat/actualitat/agenda/4545-recull-el-teu-sac-reutilitzable-per-la-poda.html
CLASS:PUBLIC
END:VEVENT
END:VCALENDAR
