BEGIN:VCALENDAR
VERSION:2.0
CALSCALE:GREGORIAN
PRODID:-//Diputació de Barcelona//DibaCMS//EN
BEGIN:VEVENT
UID:4555
DTSTAMP:20260421T135813
DTSTART:20201219T190000
DTEND:20201219T203000
SUMMARY:3a edició de festival de curtmetratges d'Ullastrell RAS I CURT
LOCATION:Plataforma ONLINE 
METHOD:PUBLISH
X-WR-CALNAME:ullastrell@ullastrell.cat
X-WR-TIMEZONE:Europe/Madrid
DESCRIPTION:
URI:https://www.ullastrell.cat/actualitat/agenda/3a-edicio-de-festival-de-curtmetratges-dullastrell-ras-i-curt.html
CLASS:PUBLIC
END:VEVENT
END:VCALENDAR
