BEGIN:VCALENDAR
VERSION:2.0
CALSCALE:GREGORIAN
PRODID:-//Diputació de Barcelona//DibaCMS//EN
BEGIN:VEVENT
UID:4558
DTSTAMP:20260421T180603
DTSTART:20201125T200000
DTEND:20201125T210000
SUMMARY:Ple extraoprdinari 25 de novembre de 2020
LOCATION:
METHOD:PUBLISH
X-WR-CALNAME:ullastrell@ullastrell.cat
X-WR-TIMEZONE:Europe/Madrid
DESCRIPTION:Tipus de convocatòria: Extraordinària
Data i hora: 25 / de novembre / 2020 a les 20:00

URI:https://www.ullastrell.cat/actualitat/agenda/ple-extraoprdinari-25-de-novembre-de-2020.html
CLASS:PUBLIC
END:VEVENT
END:VCALENDAR
