BEGIN:VCALENDAR
VERSION:2.0
CALSCALE:GREGORIAN
PRODID:-//Diputació de Barcelona//DibaCMS//EN
BEGIN:VEVENT
UID:4562
DTSTAMP:20260421T134445
DTSTART:20201210T173000
DTEND:20201210T190000
SUMMARY:Conte va, conte ve
LOCATION:C/ Josep Fornell, s/n 08231 Ullastrell
METHOD:PUBLISH
X-WR-CALNAME:ullastrell@ullastrell.cat
X-WR-TIMEZONE:Europe/Madrid
DESCRIPTION:Contes tradicionals Catalans. Amb Moi Aznar

URI:https://www.ullastrell.cat/actualitat/agenda/4562-conte-va-conte-ve.html
CLASS:PUBLIC
END:VEVENT
END:VCALENDAR
