BEGIN:VCALENDAR
VERSION:2.0
CALSCALE:GREGORIAN
PRODID:-//Diputació de Barcelona//DibaCMS//EN
BEGIN:VEVENT
UID:4571
DTSTAMP:20260421T134348
DTSTART:20201212T120000
DTEND:20201212T140000
SUMMARY:CIRC- SIDECAR
LOCATION:C/ Serra, 17 08231 Ullastrell
METHOD:PUBLISH
X-WR-CALNAME:ullastrell@ullastrell.cat
X-WR-TIMEZONE:Europe/Madrid
DESCRIPTION:Cia. Pessic de Circ

URI:https://www.ullastrell.cat/actualitat/agenda/circ-sidecar.html
CLASS:PUBLIC
END:VEVENT
END:VCALENDAR
