BEGIN:VCALENDAR
VERSION:2.0
CALSCALE:GREGORIAN
PRODID:-//Diputació de Barcelona//DibaCMS//EN
BEGIN:VEVENT
UID:4585
DTSTAMP:20260421T164341
DTSTART:20201221T200000
DTEND:20201221T210000
SUMMARY:Ple extraordinari 21/12/2020
LOCATION:
METHOD:PUBLISH
X-WR-CALNAME:ullastrell@ullastrell.cat
X-WR-TIMEZONE:Europe/Madrid
DESCRIPTION:Tipus de convocatòria: Extraordinària

Data i hora: 21 / de desembre / 2020 a les 20:00

URI:https://www.ullastrell.cat/actualitat/agenda/ple-extraordinari-21122020.html
CLASS:PUBLIC
END:VEVENT
END:VCALENDAR
