BEGIN:VCALENDAR
VERSION:2.0
CALSCALE:GREGORIAN
PRODID:-//Diputació de Barcelona//DibaCMS//EN
BEGIN:VEVENT
UID:4603
DTSTAMP:20260421T133609
DTSTART:20210105T180000
DTEND:20210105T213000
SUMMARY:Rebuda de SSMM les Reines i Reis Mags a Ullastrell
LOCATION:
METHOD:PUBLISH
X-WR-CALNAME:ullastrell@ullastrell.cat
X-WR-TIMEZONE:Europe/Madrid
DESCRIPTION:Aquest any rebrem a SSMM d'una forma especial.

URI:https://www.ullastrell.cat/actualitat/agenda/rebuda-de-ssmm-les-reines-i-reis-mags-a-ullastrell.html
CLASS:PUBLIC
END:VEVENT
END:VCALENDAR
