BEGIN:VCALENDAR
VERSION:2.0
CALSCALE:GREGORIAN
PRODID:-//Diputació de Barcelona//DibaCMS//EN
BEGIN:VEVENT
UID:4616
DTSTAMP:20260421T214721
DTSTART:20210204T190000
DTEND:20210204T210000
SUMMARY:Xerrada: Presa de decisions en Pandèmia
LOCATION:Plataforma Online 
METHOD:PUBLISH
X-WR-CALNAME:ullastrell@ullastrell.cat
X-WR-TIMEZONE:Europe/Madrid
DESCRIPTION:Amb Gemma Ubasart

URI:https://www.ullastrell.cat/actualitat/agenda/xerrada-presa-de-decisions-en-pandemia.html
CLASS:PUBLIC
END:VEVENT
END:VCALENDAR
