BEGIN:VCALENDAR
VERSION:2.0
CALSCALE:GREGORIAN
PRODID:-//Diputació de Barcelona//DibaCMS//EN
BEGIN:VEVENT
UID:4618
DTSTAMP:20260421T132618
DTSTART:20210120T200000
DTEND:20210120T210000
SUMMARY:Ple Ordinari gener
LOCATION:
METHOD:PUBLISH
X-WR-CALNAME:ullastrell@ullastrell.cat
X-WR-TIMEZONE:Europe/Madrid
DESCRIPTION:Tipus de convocatòria: Ordinària
Data i hora: 20 / de gener / 2021 a les 20:00

URI:https://www.ullastrell.cat/actualitat/agenda/ple-ordinari-gener.html
CLASS:PUBLIC
END:VEVENT
END:VCALENDAR
