BEGIN:VCALENDAR
VERSION:2.0
CALSCALE:GREGORIAN
PRODID:-//Diputació de Barcelona//DibaCMS//EN
BEGIN:VEVENT
UID:4627
DTSTAMP:20260421T121048
DTSTART:20210211T170000
DTEND:20210211T180000
SUMMARY:Conte va Conte ve
LOCATION:C/ Josep Fornell, s/n 08231 Ullastrell
METHOD:PUBLISH
X-WR-CALNAME:ullastrell@ullastrell.cat
X-WR-TIMEZONE:Europe/Madrid
DESCRIPTION:"Capses per explicar" 

amb Berta del Poblet

URI:https://www.ullastrell.cat/actualitat/agenda/4627-conte-va-conte-ve.html
CLASS:PUBLIC
END:VEVENT
END:VCALENDAR
