BEGIN:VCALENDAR
VERSION:2.0
CALSCALE:GREGORIAN
PRODID:-//Diputació de Barcelona//DibaCMS//EN
BEGIN:VEVENT
UID:4632
DTSTAMP:20260421T133831
DTSTART:20210227T193000
DTEND:20210227T213000
SUMMARY:Documental - "Ullastrell, en temps de Guerra Civil"
LOCATION:C/ Josep Fornell, s/n 08231 Ullastrell
METHOD:PUBLISH
X-WR-CALNAME:ullastrell@ullastrell.cat
X-WR-TIMEZONE:Europe/Madrid
DESCRIPTION:Un recorregut pels esdeveniments i vivències al voltant de la guerra civil espanyola(1936-39) narrat pels nostres avis i àvies.

URI:https://www.ullastrell.cat/actualitat/agenda/documental-ullastrell-en-temps-de-guerra-civil.html
CLASS:PUBLIC
END:VEVENT
END:VCALENDAR
