BEGIN:VCALENDAR
VERSION:2.0
CALSCALE:GREGORIAN
PRODID:-//Diputació de Barcelona//DibaCMS//EN
BEGIN:VEVENT
UID:4656
DTSTAMP:20260421T110436
DTSTART:20210228T110000
DTEND:20210228T130000
SUMMARY:Exposició- PER SER NENA- 
LOCATION:C/ Serra 37 08231 Ullastrell
METHOD:PUBLISH
X-WR-CALNAME:ullastrell@ullastrell.cat
X-WR-TIMEZONE:Europe/Madrid
DESCRIPTION:L'exposició, cedida per l'Institut Català de les Dones, reconeix a les nenes la categoria de protagonistes amb veu pròpia del seu esdevenir.

URI:https://www.ullastrell.cat/actualitat/agenda/4656-exposicio-per-ser-nena-.html
CLASS:PUBLIC
END:VEVENT
END:VCALENDAR
