BEGIN:VCALENDAR
VERSION:2.0
CALSCALE:GREGORIAN
PRODID:-//Diputació de Barcelona//DibaCMS//EN
BEGIN:VEVENT
UID:4683
DTSTAMP:20260421T120926
DTSTART:20210224T200000
DTEND:20210224T210000
SUMMARY:Ple extraordinari 24/02/2021
LOCATION:
METHOD:PUBLISH
X-WR-CALNAME:ullastrell@ullastrell.cat
X-WR-TIMEZONE:Europe/Madrid
DESCRIPTION:
URI:https://www.ullastrell.cat/actualitat/agenda/ple-extraordinari-24022021.html
CLASS:PUBLIC
END:VEVENT
END:VCALENDAR
