BEGIN:VCALENDAR
VERSION:2.0
CALSCALE:GREGORIAN
PRODID:-//Diputació de Barcelona//DibaCMS//EN
BEGIN:VEVENT
UID:4692
DTSTAMP:20260421T115938
DTSTART:20210319T193000
DTEND:20210319T210000
SUMMARY:Cinema. La Mort De Guillem
LOCATION:
METHOD:PUBLISH
X-WR-CALNAME:ullastrell@ullastrell.cat
X-WR-TIMEZONE:Europe/Madrid
DESCRIPTION:Imprescindible reserva prèvia al 937887262

URI:https://www.ullastrell.cat/actualitat/agenda/cinema-la-mort-de-guillem.html
CLASS:PUBLIC
END:VEVENT
END:VCALENDAR
