BEGIN:VCALENDAR
VERSION:2.0
CALSCALE:GREGORIAN
PRODID:-//Diputació de Barcelona//DibaCMS//EN
BEGIN:VEVENT
UID:4702
DTSTAMP:20260421T133731
DTSTART:20210310T200000
DTEND:20210310T210000
SUMMARY:Festes de Serralavella - Concert Lúa Cheia.
LOCATION:
METHOD:PUBLISH
X-WR-CALNAME:ullastrell@ullastrell.cat
X-WR-TIMEZONE:Europe/Madrid
DESCRIPTION:Version de les millors balades i hits nacionals i internacionals

URI:https://www.ullastrell.cat/actualitat/agenda/festes-de-serralavella-concert-lua-cheia.html
CLASS:PUBLIC
END:VEVENT
END:VCALENDAR
