BEGIN:VCALENDAR
VERSION:2.0
CALSCALE:GREGORIAN
PRODID:-//Diputació de Barcelona//DibaCMS//EN
BEGIN:VEVENT
UID:4703
DTSTAMP:20260421T103232
DTSTART:20210311T170000
DTEND:20210311T174000
SUMMARY:Festes de Serralavella - Conte Va Conte Ve
LOCATION:C/ Serra 37 08231 Ullastrell
METHOD:PUBLISH
X-WR-CALNAME:ullastrell@ullastrell.cat
X-WR-TIMEZONE:Europe/Madrid
DESCRIPTION:
URI:https://www.ullastrell.cat/actualitat/agenda/festes-de-serralavella-conte-va-conte-ve.html
CLASS:PUBLIC
END:VEVENT
END:VCALENDAR
