BEGIN:VCALENDAR
VERSION:2.0
CALSCALE:GREGORIAN
PRODID:-//Diputació de Barcelona//DibaCMS//EN
BEGIN:VEVENT
UID:4704
DTSTAMP:20260421T121118
DTSTART:20210312T183000
DTEND:20210312T193000
SUMMARY:Festes de Serralavella - CONCURS DE CUINA VIRTUAL
LOCATION:PLATAFORMA VIRTUAL 
METHOD:PUBLISH
X-WR-CALNAME:ullastrell@ullastrell.cat
X-WR-TIMEZONE:Europe/Madrid
DESCRIPTION:El XXXIIIè Concurs de cuina t'espera. Aquest any, VIRTUAL!

 

Consulta les bases

URI:https://www.ullastrell.cat/actualitat/agenda/festes-de-serralavella-concurs-de-cuina-virtual.html
CLASS:PUBLIC
END:VEVENT
END:VCALENDAR
