BEGIN:VCALENDAR
VERSION:2.0
CALSCALE:GREGORIAN
PRODID:-//Diputació de Barcelona//DibaCMS//EN
BEGIN:VEVENT
UID:4705
DTSTAMP:20260421T103515
DTSTART:20210312T200000
DTEND:20210312T210000
SUMMARY:Festes de Serralavella - Concert PIERO PESCE TRIO FOLK
LOCATION:C/ Josep Fornell, s/n 08231 Ullastrell
METHOD:PUBLISH
X-WR-CALNAME:ullastrell@ullastrell.cat
X-WR-TIMEZONE:Europe/Madrid
DESCRIPTION:Dirigit a tots els públics

URI:https://www.ullastrell.cat/actualitat/agenda/festes-de-serralavella-concert-piero-pesce-trio-folk.html
CLASS:PUBLIC
END:VEVENT
END:VCALENDAR
