BEGIN:VCALENDAR
VERSION:2.0
CALSCALE:GREGORIAN
PRODID:-//Diputació de Barcelona//DibaCMS//EN
BEGIN:VEVENT
UID:4707
DTSTAMP:20260421T142304
DTSTART:20210313T200000
DTEND:20210313T211500
SUMMARY:Festes de Serralavella - Concert KE TE KALLES
LOCATION:C/ Josep Fornell, s/n 08231 Ullastrell
METHOD:PUBLISH
X-WR-CALNAME:ullastrell@ullastrell.cat
X-WR-TIMEZONE:Europe/Madrid
DESCRIPTION:
URI:https://www.ullastrell.cat/actualitat/agenda/festes-de-serralavella-concert-ke-te-kalles.html
CLASS:PUBLIC
END:VEVENT
END:VCALENDAR
