BEGIN:VCALENDAR
VERSION:2.0
CALSCALE:GREGORIAN
PRODID:-//Diputació de Barcelona//DibaCMS//EN
BEGIN:VEVENT
UID:4708
DTSTAMP:20260421T103451
DTSTART:20210314T120000
DTEND:20210314T130000
SUMMARY:Festes de Serralavella - "Back to Classics"
LOCATION:C/ Serra, 17 08231 Ullastrell
METHOD:PUBLISH
X-WR-CALNAME:ullastrell@ullastrell.cat
X-WR-TIMEZONE:Europe/Madrid
DESCRIPTION:Espectacle de circ amb Cia. Planeta Trampolí

URI:https://www.ullastrell.cat/actualitat/agenda/festes-de-serralavella-back-to-classics.html
CLASS:PUBLIC
END:VEVENT
END:VCALENDAR
