BEGIN:VCALENDAR
VERSION:2.0
CALSCALE:GREGORIAN
PRODID:-//Diputació de Barcelona//DibaCMS//EN
BEGIN:VEVENT
UID:4719
DTSTAMP:20260421T115959
DTSTART:20210401T170000
DTEND:20210401T180000
SUMMARY:Conte va, conte ve 
LOCATION:C/ Josep Fornell, s/n 08231 Ullastrell
METHOD:PUBLISH
X-WR-CALNAME:ullastrell@ullastrell.cat
X-WR-TIMEZONE:Europe/Madrid
DESCRIPTION:Jully Butterfly Amb Laura Asensio


 

URI:https://www.ullastrell.cat/actualitat/agenda/conte-va-conte-ve-.html
CLASS:PUBLIC
END:VEVENT
END:VCALENDAR
