BEGIN:VCALENDAR
VERSION:2.0
CALSCALE:GREGORIAN
PRODID:-//Diputació de Barcelona//DibaCMS//EN
BEGIN:VEVENT
UID:4720
DTSTAMP:20260421T115253
DTSTART:20210406T170000
DTEND:20210406T200000
SUMMARY:Taller: Repara aparells d'àudio
LOCATION:
METHOD:PUBLISH
X-WR-CALNAME:ullastrell@ullastrell.cat
X-WR-TIMEZONE:Europe/Madrid
DESCRIPTION:A càrrec de Jaume Font (Alta fidelifaf)

URI:https://www.ullastrell.cat/actualitat/agenda/taller-repara-aparells-daudio.html
CLASS:PUBLIC
END:VEVENT
END:VCALENDAR
